BEGIN:VCALENDAR
VERSION:2.0
PRODID:SchoolNow
CALSCALE:GREGORIAN
BEGIN:VEVENT
UID:3271ed90-e59d-11ef-9474-0a58a9feac02
DTSTAMP:20250207T221248Z
SUMMARY:Medical Lab Science Information Session #1
LOCATION:Webex - Online
URL;VALUE=URI:https://www.solacc.edu/about-us/calendar/7437373/medical-lab-
 science-information-session
DTSTART:20250310T180000Z
DTEND:20250310T191000Z
END:VEVENT
END:VCALENDAR
