BEGIN:VCALENDAR
VERSION:2.0
PRODID:SchoolNow
CALSCALE:GREGORIAN
BEGIN:VEVENT
UID:7855b944-df54-11ef-bdb0-0a58a9feac02
DTSTAMP:20250306T173525Z
SUMMARY:Industrial Trades Job Fair
LOCATION:New Iberia Campus (908 Ember Dr.\, New Iberia)
URL;VALUE=URI:https://www.solacc.edu/about-us/calendar/7400127/industrial-t
 rades-job-fair
DTSTART:20250403T160000Z
DTEND:20250403T190000Z
END:VEVENT
END:VCALENDAR
