BEGIN:VCALENDAR
VERSION:2.0
PRODID:SchoolNow
CALSCALE:GREGORIAN
BEGIN:VEVENT
UID:7b29abdc-df2f-11ef-926d-02775eeab8d5
DTSTAMP:20250324T144109Z
SUMMARY:CC Week: Student Showcase
LOCATION:Lafayette Campus - Devalcourt Auditorium
URL;VALUE=URI:https://www.solacc.edu/about-us/calendar/7398502/student-show
 case
DTSTART:20250325T140000Z
DTEND:20250325T180000Z
END:VEVENT
END:VCALENDAR
