BEGIN:VCALENDAR
VERSION:2.0
PRODID:SchoolNow
CALSCALE:GREGORIAN
BEGIN:VEVENT
UID:9a8d1df6-ddc7-11ef-af5d-0a58a9feac02
DTSTAMP:20250128T223207Z
SUMMARY:McNeese Recruiter Visit
LOCATION:Lafayette Campus - Ardoin Building Room 105
URL;VALUE=URI:https://www.solacc.edu/about-us/calendar/7390207/mcneese-recr
 uiter-visit
DTSTART:20250211T150000Z
DTEND:20250211T180000Z
END:VEVENT
END:VCALENDAR
