BEGIN:VCALENDAR
VERSION:2.0
PRODID:SchoolNow
CALSCALE:GREGORIAN
BEGIN:VEVENT
UID:034b13d2-cf92-11ef-be91-0afffdd1788f
DTSTAMP:20250225T205645Z
SUMMARY:2025 Ms. SoLAcc Pageant
LOCATION:Lafayette Campus\, Devalcourt Auditorium
URL;VALUE=URI:https://www.solacc.edu/about-us/calendar/7297059/ms-solacc-pa
 geant
DTSTART:20250207T000000Z
DTEND:20250207T030000Z
END:VEVENT
END:VCALENDAR
