BEGIN:VCALENDAR
VERSION:2.0
PRODID:SchoolNow
CALSCALE:GREGORIAN
BEGIN:VEVENT
UID:66891578-cf8f-11ef-be83-0a58a9feac02
DTSTAMP:20250424T151534Z
SUMMARY:CANCELLED: UL Recruiter Visit
LOCATION:Lafayette Campus - Ardoin Building Room 105
URL;VALUE=URI:https://www.solacc.edu/about-us/calendar/7297058/ul-recruiter
 -visit
DTSTART:20250424T140000Z
DTEND:20250424T170000Z
END:VEVENT
END:VCALENDAR
