BEGIN:VCALENDAR
VERSION:2.0
PRODID:SchoolNow
CALSCALE:GREGORIAN
BEGIN:VEVENT
UID:576b426e-cf8f-11ef-8492-0a58a9feac02
DTSTAMP:20250110T201322Z
SUMMARY:UL Recruiter Visit
LOCATION:Lafayette Campus - Ardoin Building Room 105
URL;VALUE=URI:https://www.solacc.edu/about-us/calendar/7297057/ul-recruiter
 -visit
DTSTART:20250410T140000Z
DTEND:20250410T170000Z
END:VEVENT
END:VCALENDAR
