BEGIN:VCALENDAR
VERSION:2.0
PRODID:SchoolNow
CALSCALE:GREGORIAN
BEGIN:VEVENT
UID:4b561e90-cf8f-11ef-a02d-0a58a9feac02
DTSTAMP:20250321T190920Z
SUMMARY:UL Recruiter Visit
LOCATION:Lafayette Campus - Courtyard by the Devalcourt Building (320 Deval
 court St.)
URL;VALUE=URI:https://www.solacc.edu/about-us/calendar/7297056/ul-recruiter
 -visit
DTSTART:20250325T140000Z
DTEND:20250325T170000Z
END:VEVENT
END:VCALENDAR
