BEGIN:VCALENDAR
VERSION:2.0
PRODID:SchoolNow
CALSCALE:GREGORIAN
BEGIN:VEVENT
UID:314be76e-cf8f-11ef-bce1-0eadeb2b21e5
DTSTAMP:20250110T201218Z
SUMMARY:UL Recruiter Visit
LOCATION:Lafayette Campus - Ardoin Building Room 105
URL;VALUE=URI:https://www.solacc.edu/about-us/calendar/7297054/ul-recruiter
 -visit
DTSTART:20250224T150000Z
DTEND:20250224T180000Z
END:VEVENT
END:VCALENDAR
