BEGIN:VCALENDAR
VERSION:2.0
PRODID:SchoolNow
CALSCALE:GREGORIAN
BEGIN:VEVENT
UID:25c75086-cf8f-11ef-87eb-0eb709c6d70f
DTSTAMP:20250110T201159Z
SUMMARY:UL Recruiter Visit
LOCATION:Lafayette Campus - Ardoin Building Room 105
URL;VALUE=URI:https://www.solacc.edu/about-us/calendar/7297053/ul-recruiter
 -visit
DTSTART:20250210T150000Z
DTEND:20250210T180000Z
END:VEVENT
END:VCALENDAR
