BEGIN:VCALENDAR
VERSION:2.0
PRODID:SchoolNow
CALSCALE:GREGORIAN
BEGIN:VEVENT
UID:18279af8-cf8f-11ef-8f2e-0a58a9feac02
DTSTAMP:20250110T201136Z
SUMMARY:UL Recruiter Visit
LOCATION:Lafayette Campus - Ardoin Building Room 105
URL;VALUE=URI:https://www.solacc.edu/about-us/calendar/7297052/ul-recruiter
 -visit
DTSTART:20250129T150000Z
DTEND:20250129T180000Z
END:VEVENT
END:VCALENDAR
