BEGIN:VCALENDAR
VERSION:2.0
PRODID:SchoolNow
CALSCALE:GREGORIAN
BEGIN:VEVENT
UID:ffe3d52e-cf8e-11ef-ad61-0eb709c6d70f
DTSTAMP:20250110T201105Z
SUMMARY:UL Recruiter Visit
LOCATION:Lafayette Campus - Ardoin Building Room 105
URL;VALUE=URI:https://www.solacc.edu/about-us/calendar/7297051/ul-recruiter
 -visit
DTSTART:20250115T150000Z
DTEND:20250115T180000Z
END:VEVENT
END:VCALENDAR
