BEGIN:VCALENDAR
VERSION:2.0
PRODID:SchoolNow
CALSCALE:GREGORIAN
BEGIN:VEVENT
UID:a983f704-ce08-11ef-85d9-0affd5263f5d
DTSTAMP:20250108T215458Z
SUMMARY:Resume Presentation
LOCATION:Lafayette Campus (1101 Bertrand Dr.) - Ardoin Building Rm. 105
URL;VALUE=URI:https://www.solacc.edu/about-us/calendar/7288281/resume-prese
 ntation
DTSTART:20250423T180000Z
DTEND:20250423T190000Z
END:VEVENT
END:VCALENDAR
