BEGIN:VCALENDAR
VERSION:2.0
PRODID:SchoolNow
CALSCALE:GREGORIAN
BEGIN:VEVENT
UID:5b6956f4-ce08-11ef-8c5b-0a58a9feac02
DTSTAMP:20250108T214938Z
SUMMARY:Resume Presentation
LOCATION:Lafayette Campus (1101 Bertrand Dr.) - Ardoin Building Rm. 105
URL;VALUE=URI:https://www.solacc.edu/about-us/calendar/7288280/resume-prese
 ntation
DTSTART:20250320T160000Z
DTEND:20250320T170000Z
END:VEVENT
END:VCALENDAR
