BEGIN:VCALENDAR
VERSION:2.0
PRODID:SchoolNow
CALSCALE:GREGORIAN
BEGIN:VEVENT
UID:2b37a4c2-ce08-11ef-b614-0a58a9feac02
DTSTAMP:20250108T214706Z
SUMMARY:Resume Presentation
LOCATION:Lafayette Campus (1101 Bertrand Dr.) - Ardoin Building Rm. 105
URL;VALUE=URI:https://www.solacc.edu/about-us/calendar/7288278/resume-prese
 ntation
DTSTART:20250127T190000Z
DTEND:20250127T200000Z
END:VEVENT
END:VCALENDAR
