BEGIN:VCALENDAR
VERSION:2.0
PRODID:SchoolNow
CALSCALE:GREGORIAN
BEGIN:VEVENT
UID:0e03a40a-ce08-11ef-935c-0a58a9feac02
DTSTAMP:20250108T215527Z
SUMMARY:Resume Presentation
LOCATION:Virtual - Register here for the link
URL;VALUE=URI:https://www.solacc.edu/about-us/calendar/7288277/resume-prese
 ntation
DTSTART:20250502T160000Z
DTEND:20250502T170000Z
END:VEVENT
END:VCALENDAR
