BEGIN:VCALENDAR
VERSION:2.0
PRODID:SchoolNow
CALSCALE:GREGORIAN
BEGIN:VEVENT
UID:ef390380-ce07-11ef-8dec-0a58a9feac02
DTSTAMP:20250108T215405Z
SUMMARY:Resume Presentation
LOCATION:Virtual - Register here for the link
URL;VALUE=URI:https://www.solacc.edu/about-us/calendar/7288276/resume-prese
 ntation
DTSTART:20250402T180000Z
DTEND:20250402T190000Z
END:VEVENT
END:VCALENDAR
