BEGIN:VCALENDAR
VERSION:2.0
PRODID:SchoolNow
CALSCALE:GREGORIAN
BEGIN:VEVENT
UID:b8033dfe-ce07-11ef-a6a8-0a58a9feac02
DTSTAMP:20250108T214737Z
SUMMARY:Resume Presentation
LOCATION:Virtual - Register here for the link
URL;VALUE=URI:https://www.solacc.edu/about-us/calendar/7288274/resume-prese
 ntation
DTSTART:20250204T170000Z
DTEND:20250204T180000Z
END:VEVENT
END:VCALENDAR
