BEGIN:VCALENDAR
VERSION:2.0
PRODID:SchoolNow
CALSCALE:GREGORIAN
BEGIN:VEVENT
UID:a3094c5e-ce07-11ef-95bd-0a58a9feac02
DTSTAMP:20250108T214632Z
SUMMARY:Resume Presentation
LOCATION:Virtual - Register here for the link
URL;VALUE=URI:https://www.solacc.edu/about-us/calendar/7288273/resume-prese
 ntation
DTSTART:20250117T200000Z
DTEND:20250117T210000Z
END:VEVENT
END:VCALENDAR
