BEGIN:VCALENDAR
VERSION:2.0
PRODID:SchoolNow
CALSCALE:GREGORIAN
BEGIN:VEVENT
UID:25e89346-cd31-11ef-ba23-0a58a9feac02
DTSTAMP:20250107T203941Z
SUMMARY:Job-Training Courses Information Sessions
LOCATION:SoLAcc New Iberia campus (609 Ember Dr.\, New Iberia) - Room 601
URL;VALUE=URI:https://www.solacc.edu/about-us/calendar/7282852/job-training
 -courses-info-session
DTSTART:20250120T160000Z
DTEND:20250120T200000Z
END:VEVENT
END:VCALENDAR
