BEGIN:VCALENDAR
VERSION:2.0
PRODID:SchoolNow
CALSCALE:GREGORIAN
BEGIN:VEVENT
UID:65cefae6-bca5-11ef-8260-02ba691918f5
DTSTAMP:20250108T163514Z
SUMMARY:CANCELED: Owl Connection - Spring 2025 Convocation
LOCATION:SoLAcc Lafayette (1101 Bertrand Drive\, Lafayette)
URL;VALUE=URI:https://www.solacc.edu/about-us/calendar/7186550/owl-connecti
 on-spring-2025-convocation
DTSTART:20250109T150000Z
DTEND:20250109T220000Z
END:VEVENT
END:VCALENDAR
