BEGIN:VCALENDAR
VERSION:2.0
PRODID:SchoolNow
CALSCALE:GREGORIAN
BEGIN:VEVENT
UID:890a51e2-b72b-11ef-ba39-0affc6f45e71
DTSTAMP:20241210T191828Z
SUMMARY:Adult Education Open Registration
LOCATION:Devalcourt Adult Ed Suite (2nd Floor)\, Lafayette Campus\, 320 Dev
 alcourt Street
URL;VALUE=URI:https://www.solacc.edu/about-us/calendar/7151309/adult-educat
 ion-open-registration-clone
DTSTART:20241217T150000Z
DTEND:20241217T210000Z
END:VEVENT
END:VCALENDAR
