BEGIN:VCALENDAR
VERSION:2.0
PRODID:SchoolNow
CALSCALE:GREGORIAN
BEGIN:VEVENT
UID:bbc541f0-b71c-11ef-bf84-0a58a9feac02
DTSTAMP:20241210T191649Z
SUMMARY:Adult Education Open Registration
LOCATION:Devalcourt Library\, Lafayette Campus\, 320 Devalcourt Street
URL;VALUE=URI:https://www.solacc.edu/about-us/calendar/7151222/adult-educat
 ion-open-registration
DTSTART:20241216T150000Z
DTEND:20241216T210000Z
END:VEVENT
END:VCALENDAR
