BEGIN:VCALENDAR
VERSION:2.0
PRODID:SchoolNow
CALSCALE:GREGORIAN
BEGIN:VEVENT
UID:b06c049c-9c7d-11ef-ad8c-0a58a9feac02
DTSTAMP:20241126T215900Z
SUMMARY:Grad Expo
LOCATION:Lafayette Campus\, Devalcourt Auditorium (320 Devalcourt St.\, Laf
 ayette)
URL;VALUE=URI:https://www.solacc.edu/about-us/calendar/6972025/grad-expo
DTSTART:20241202T150000Z
DTEND:20241202T190000Z
END:VEVENT
END:VCALENDAR
