BEGIN:VCALENDAR
VERSION:2.0
PRODID:SchoolNow
CALSCALE:GREGORIAN
BEGIN:VEVENT
UID:d04934fe-8b31-11ef-b0f9-0a58a9feac02
DTSTAMP:20241015T201233Z
SUMMARY:HOSA 2024 Fall Forum Leadership Conference
URL;VALUE=URI:https://www.solacc.edu/about-us/calendar/6831562/hosa-2024-fa
 ll-forum-leadership-conference
DTSTART:20241022T133000Z
DTEND:20241022T193000Z
END:VEVENT
END:VCALENDAR
