BEGIN:VCALENDAR
VERSION:2.0
PRODID:SchoolNow
CALSCALE:GREGORIAN
BEGIN:VEVENT
UID:eb737ea0-84c0-11ef-bd77-0e0ba6a44717
DTSTAMP:20241015T213427Z
SUMMARY:Fall Fest & Alive at 5
LOCATION:Lafayette Campus (320 Devalcourt St.\, Lafayette) - Parking Lot D
URL;VALUE=URI:https://www.solacc.edu/about-us/calendar/6776645/fall-fest-an
 d-alive-at-5
DTSTART:20241023T220000Z
DTEND:20241024T000000Z
END:VEVENT
END:VCALENDAR
