BEGIN:VCALENDAR
VERSION:2.0
PRODID:SchoolNow
CALSCALE:GREGORIAN
BEGIN:VEVENT
UID:b843a06a-71e1-11ef-abcc-0a58a9feac02
DTSTAMP:20240913T152544Z
SUMMARY:Pre-Advising Virtual Sessions
LOCATION:WEBEX
URL;VALUE=URI:https://www.solacc.edu/about-us/calendar/6594642/pre-advising
 -virtual-session
DTSTART:20240930T150000Z
DTEND:20240930T200000Z
END:VEVENT
END:VCALENDAR
