BEGIN:VCALENDAR
VERSION:2.0
PRODID:SchoolNow
CALSCALE:GREGORIAN
BEGIN:VEVENT
UID:aee5698e-6bad-11ef-9341-0263cc54c117
DTSTAMP:20240905T173853Z
SUMMARY:September 11th Memorial
LOCATION:All campuses - Flag Pole
URL;VALUE=URI:https://www.solacc.edu/about-us/calendar/6531796/sept-11-memo
 rial
DTSTART:20240911T133000Z
DTEND:20240911T140000Z
END:VEVENT
END:VCALENDAR
