BEGIN:VCALENDAR
VERSION:2.0
PRODID:SchoolNow
CALSCALE:GREGORIAN
BEGIN:VEVENT
UID:d262a442-6a29-11ef-96d1-02dea9ddefb1
DTSTAMP:20240903T193308Z
SUMMARY:Resume Presentation
LOCATION:Lafayette Campus (1101 Bertrand Dr.) - Ardoin Building Rm. 105
URL;VALUE=URI:https://www.solacc.edu/about-us/calendar/6515494/resume-prese
 ntation
DTSTART:20241016T160000Z
DTEND:20241016T170000Z
END:VEVENT
END:VCALENDAR
