BEGIN:VCALENDAR
VERSION:2.0
PRODID:SchoolNow
CALSCALE:GREGORIAN
BEGIN:VEVENT
UID:d79c1a78-6a20-11ef-914c-0a58a9feac02
DTSTAMP:20241125T185720Z
SUMMARY:Resume Presentation
LOCATION:Virtual - Register with Handshake for the link
URL;VALUE=URI:https://www.solacc.edu/about-us/calendar/6515471/resume-prese
 ntation
DTSTART:20241202T190000Z
DTEND:20241202T200000Z
END:VEVENT
END:VCALENDAR
