BEGIN:VCALENDAR
VERSION:2.0
PRODID:SchoolNow
CALSCALE:GREGORIAN
BEGIN:VEVENT
UID:c6a40302-6a20-11ef-8245-0a58a9feac02
DTSTAMP:20240903T193327Z
SUMMARY:Resume Presentation
LOCATION:Lafayette Campus (1101 Bertrand Dr.) - Ardoin Building Rm. 105
URL;VALUE=URI:https://www.solacc.edu/about-us/calendar/6515470/resume-prese
 ntation
DTSTART:20241105T190000Z
DTEND:20241105T200000Z
END:VEVENT
END:VCALENDAR
