BEGIN:VCALENDAR
VERSION:2.0
PRODID:SchoolNow
CALSCALE:GREGORIAN
BEGIN:VEVENT
UID:7fa8dcb6-6a20-11ef-9f62-0afff2fcba5f
DTSTAMP:20240903T193243Z
SUMMARY:Resume Presentation
LOCATION:Virtual - Register with Handshake for the link
URL;VALUE=URI:https://www.solacc.edu/about-us/calendar/6515469/resume-prese
 ntation
DTSTART:20241008T180000Z
DTEND:20241008T190000Z
END:VEVENT
END:VCALENDAR
