BEGIN:VCALENDAR
VERSION:2.0
PRODID:SchoolNow
CALSCALE:GREGORIAN
BEGIN:VEVENT
UID:ad55b0d8-6635-11ef-adb4-0a58a9feac02
DTSTAMP:20240829T190959Z
SUMMARY:Education Classes Info Session #2
LOCATION:Lafayette Campus - Health & Sciences Auditorium
URL;VALUE=URI:https://www.solacc.edu/about-us/calendar/6482041/education-cl
 asses-information-session-2
DTSTART:20240925T150000Z
DTEND:20240925T160000Z
END:VEVENT
END:VCALENDAR
