BEGIN:VCALENDAR
VERSION:2.0
PRODID:SchoolNow
CALSCALE:GREGORIAN
BEGIN:VEVENT
UID:812ef258-6635-11ef-b6e8-026ed8afabb9
DTSTAMP:20240829T183545Z
SUMMARY:Education Classes Info Session #1
LOCATION:Webex - Online
URL;VALUE=URI:https://www.solacc.edu/about-us/calendar/6482040/education-cl
 asses-information-session
DTSTART:20240924T230000Z
DTEND:20240925T000000Z
END:VEVENT
END:VCALENDAR
