BEGIN:VCALENDAR
VERSION:2.0
PRODID:SchoolNow
CALSCALE:GREGORIAN
BEGIN:VEVENT
UID:863c7348-6170-11ef-8605-0affd05cde67
DTSTAMP:20241101T141337Z
SUMMARY:Liberal Arts and Humanities Career Fair
LOCATION:Lafayette Campus\, Devalcourt Auditorium (320 Devalcourt St.\, Laf
 ayette)
URL;VALUE=URI:https://www.solacc.edu/about-us/calendar/6449068/liberal-arts
 -humanities-career-fair
DTSTART:20241112T150000Z
DTEND:20241112T190000Z
END:VEVENT
END:VCALENDAR
