BEGIN:VCALENDAR
VERSION:2.0
PRODID:SchoolNow
CALSCALE:GREGORIAN
BEGIN:VEVENT
UID:c2c935c2-616f-11ef-8645-0a58a9feac02
DTSTAMP:20240926T152902Z
SUMMARY:Practical Nursing Career Fair
LOCATION:Ville Platte Campus (1124 Vocational Dr.\, Ville Platte)
URL;VALUE=URI:https://www.solacc.edu/about-us/calendar/6449059/pn-career-fa
 ir
DTSTART:20241007T170000Z
DTEND:20241007T183000Z
END:VEVENT
END:VCALENDAR
