BEGIN:VCALENDAR
VERSION:2.0
PRODID:SchoolNow
CALSCALE:GREGORIAN
BEGIN:VEVENT
UID:0c551442-5b51-11ef-baee-0ea0348ae2ed
DTSTAMP:20241119T230616Z
SUMMARY:CANCELED/ Transfer Fair
LOCATION:Lafayette Campus - Devalcourt Lobby
URL;VALUE=URI:https://www.solacc.edu/about-us/calendar/6409059/transfer-fai
 r
DTSTART:20241120T150000Z
DTEND:20241120T173000Z
END:VEVENT
END:VCALENDAR
