BEGIN:VCALENDAR
VERSION:2.0
PRODID:SchoolNow
CALSCALE:GREGORIAN
BEGIN:VEVENT
UID:e3934f56-5b50-11ef-89cf-0affe2c80081
DTSTAMP:20241007T151359Z
SUMMARY:Transfer Fair
LOCATION:Lafayette Campus - Ardoin Building - Culinary Arts Room 112
URL;VALUE=URI:https://www.solacc.edu/about-us/calendar/6409056/transfer-fai
 r
DTSTART:20241010T153000Z
DTEND:20241010T183000Z
END:VEVENT
END:VCALENDAR
