BEGIN:VCALENDAR
VERSION:2.0
PRODID:SchoolNow
CALSCALE:GREGORIAN
BEGIN:VEVENT
UID:699de350-5b50-11ef-9f04-0a58a9feac02
DTSTAMP:20240823T164518Z
SUMMARY:Nursing and Allied Health Career Fair
LOCATION:Lafayette Campus\, Devalcourt Auditorium (320 Devalcourt St.\, Laf
 ayette)
URL;VALUE=URI:https://www.solacc.edu/about-us/calendar/6409049/nursing-and-
 allied-health-career-fair
DTSTART:20241014T160000Z
DTEND:20241014T180000Z
END:VEVENT
END:VCALENDAR
