BEGIN:VCALENDAR
VERSION:2.0
PRODID:SchoolNow
CALSCALE:GREGORIAN
BEGIN:VEVENT
UID:c4584c14-5b4f-11ef-9657-0eb4a8c8639b
DTSTAMP:20240827T194331Z
SUMMARY:BITS* & STEM Career Fair
LOCATION:SoLAcc - Lafayette Campus\, Devalcourt Auditorium (320 Devalcourt 
 St.\, Lafayette)
URL;VALUE=URI:https://www.solacc.edu/about-us/calendar/6409047/stem-career-
 fair
DTSTART:20241031T150000Z
DTEND:20241031T170000Z
END:VEVENT
END:VCALENDAR
