BEGIN:VCALENDAR
VERSION:2.0
PRODID:SchoolNow
CALSCALE:GREGORIAN
BEGIN:VEVENT
UID:08b3ca4c-5b4f-11ef-83d0-0ebc66f7df2f
DTSTAMP:20241203T155112Z
SUMMARY:UL Recruiter Visit
LOCATION:Lafayette Campus - Devalcourt Auditorium (during Grad Expo)
URL;VALUE=URI:https://www.solacc.edu/about-us/calendar/6409046/ul-recruiter
 -visit
DTSTART:20241205T150000Z
DTEND:20241205T170000Z
END:VEVENT
END:VCALENDAR
