BEGIN:VCALENDAR
VERSION:2.0
PRODID:SchoolNow
CALSCALE:GREGORIAN
BEGIN:VEVENT
UID:fa3d6e6e-5b4e-11ef-9e73-0a58a9feac02
DTSTAMP:20241023T185714Z
SUMMARY:UL Recruiter Visit
LOCATION:Lafayette Campus - Devalcourt lobby during the Liberal Arts & Huma
 nities Career Fair
URL;VALUE=URI:https://www.solacc.edu/about-us/calendar/6409045/ul-recruiter
 -visit
DTSTART:20241112T150000Z
DTEND:20241112T180000Z
END:VEVENT
END:VCALENDAR
