BEGIN:VCALENDAR
VERSION:2.0
PRODID:SchoolNow
CALSCALE:GREGORIAN
BEGIN:VEVENT
UID:ded7fd88-5b4e-11ef-a448-0e65194ae83d
DTSTAMP:20241023T181657Z
SUMMARY:UL Recruiter Visit
LOCATION:Opelousas Campus (332 East South St.\, Opelousas)
URL;VALUE=URI:https://www.solacc.edu/about-us/calendar/6409044/ul-recruiter
 -visit
DTSTART:20241028T140000Z
DTEND:20241028T160000Z
END:VEVENT
END:VCALENDAR
