BEGIN:VCALENDAR
VERSION:2.0
PRODID:SchoolNow
CALSCALE:GREGORIAN
BEGIN:VEVENT
UID:c7c808c2-5b4e-11ef-be18-0a58a9feac02
DTSTAMP:20240823T180720Z
SUMMARY:UL Recruiter Visit
LOCATION:Lafayette Campus - Ardoin Building Room 107
URL;VALUE=URI:https://www.solacc.edu/about-us/calendar/6409043/ul-recruiter
 -visit
DTSTART:20241014T160000Z
DTEND:20241014T180000Z
END:VEVENT
END:VCALENDAR
