BEGIN:VCALENDAR
VERSION:2.0
PRODID:SchoolNow
CALSCALE:GREGORIAN
BEGIN:VEVENT
UID:abe05330-5b4e-11ef-9686-0affef1306f3
DTSTAMP:20240823T180740Z
SUMMARY:UL Recruiter Visit
LOCATION:Lafayette Campus - Ardoin Building Room 107
URL;VALUE=URI:https://www.solacc.edu/about-us/calendar/6409042/ul-recruiter
 -visit
DTSTART:20240930T140000Z
DTEND:20240930T170000Z
END:VEVENT
END:VCALENDAR
