BEGIN:VCALENDAR
VERSION:2.0
PRODID:SchoolNow
CALSCALE:GREGORIAN
BEGIN:VEVENT
UID:6f2a31d6-5b4e-11ef-9bdd-0afff5f940a5
DTSTAMP:20240823T170335Z
SUMMARY:UL Recruiter Visit
LOCATION:Lafayette Campus - Ardoin Building Room 107
URL;VALUE=URI:https://www.solacc.edu/about-us/calendar/6409041/ul-recruiter
 -visit
DTSTART:20240918T140000Z
DTEND:20240918T170000Z
END:VEVENT
END:VCALENDAR
