BEGIN:VCALENDAR
VERSION:2.0
PRODID:SchoolNow
CALSCALE:GREGORIAN
BEGIN:VEVENT
UID:0351a970-5401-11ef-a657-0a58a9feac02
DTSTAMP:20240823T180829Z
SUMMARY:UL Recruiter Visit
LOCATION:Lafayette Campus - Ardoin Building Room 107
URL;VALUE=URI:https://www.solacc.edu/about-us/calendar/6361549/ul-recruiter
 -visit
DTSTART:20240827T170000Z
DTEND:20240827T190000Z
END:VEVENT
END:VCALENDAR
