BEGIN:VCALENDAR
VERSION:2.0
PRODID:SchoolNow
CALSCALE:GREGORIAN
BEGIN:VEVENT
UID:f4f5c758-534c-11ef-b030-0e2d80489dd7
DTSTAMP:20240805T170619Z
SUMMARY:General Studies/Louisiana Transfer Open House
LOCATION:Virtual
URL;VALUE=URI:https://www.solacc.edu/about-us/calendar/6357993/general-stud
 ies-louisiana-transfer-open-house
DTSTART:20240814T180000Z
DTEND:20240814T190000Z
END:VEVENT
END:VCALENDAR
