BEGIN:VCALENDAR
VERSION:2.0
PRODID:SchoolNow
CALSCALE:GREGORIAN
BEGIN:VEVENT
UID:56f11554-3faa-11ef-86b3-0ef335e2e327
DTSTAMP:20240712T213019Z
SUMMARY:Adult Education Opelousas Open Registration
LOCATION:Opelousas Campus\, Building B\, Room 116 (332 East South St.\, Ope
 lousas)
URL;VALUE=URI:https://www.solacc.edu/about-us/calendar/6247063/adult-educat
 ion-open-registration-clone
DTSTART:20240724T140000Z
DTEND:20240724T210000Z
END:VEVENT
END:VCALENDAR
