BEGIN:VCALENDAR
VERSION:2.0
PRODID:SchoolNow
CALSCALE:GREGORIAN
BEGIN:VEVENT
UID:b64af368-3fa9-11ef-8850-02748adb4a55
DTSTAMP:20241001T181038Z
SUMMARY:ULEAD Student Leadership Conference
URL;VALUE=URI:https://www.solacc.edu/about-us/calendar/6247062/ulead-studen
 t-leardership-conference
DTSTART;VALUE=DATE:20241009
DTEND;VALUE=DATE:20241011
END:VEVENT
END:VCALENDAR
